BEGIN:VCALENDAR
PRODID:-//AT Content Types//AT Event//EN
VERSION:1.0
BEGIN:VEVENT
DTSTART:20170206T171500Z
DTEND:20170210T171500Z
DCREATED:20170203T171531Z
UID:ATEvent-7d70e2b920154040a0fe6bd9bee4f7d1
SEQUENCE:0
LAST-MODIFIED:20170203T171547Z
SUMMARY:PI review
DESCRIPTION:The website will be made available to the lab PIs for thei
 r review.
LOCATION:Psychology Complex
PRIORITY:3
TRANSP:0
END:VEVENT
END:VCALENDAR
